BEGIN:VCALENDAR
PRODID:-//AT Content Types//AT Event//EN
VERSION:2.0
METHOD:PUBLISH
BEGIN:VEVENT
DTSTAMP:20260422T162119Z
CREATED:20100302T143039Z
UID:ATEvent-dadfb97d67d8e9efd48b12ee8f5f8396
LAST-MODIFIED:20100302T143155Z
SUMMARY:HEP-QFT
DTSTART:20100427T070000Z
DTEND:20100427T083000Z
LOCATION:Lecture Room Euler
CONTACT:Marco Serone
URL:https://diploma-clear.ictp.it/courses/weekly-schedule/lecture-room-euler/hep-qft-54
CLASS:PUBLIC
END:VEVENT
END:VCALENDAR
