BEGIN:VCALENDAR
PRODID:-//AT Content Types//AT Event//EN
VERSION:1.0
BEGIN:VEVENT
DTSTART:20100422T070000Z
DTEND:20100422T083000Z
DCREATED:20100302T134743Z
UID:ATEvent-1ae902d389bb013056d2272a3cba949e
SEQUENCE:0
LAST-MODIFIED:20100302T134829Z
SUMMARY:HEP-QFT
LOCATION:Lecture Room Euler
PRIORITY:3
TRANSP:0
END:VEVENT
END:VCALENDAR
