BEGIN:VCALENDAR
PRODID:-//AT Content Types//AT Event//EN
VERSION:1.0
BEGIN:VEVENT
DTSTART:20100420T070000Z
DTEND:20100420T083000Z
DCREATED:20100302T133932Z
UID:ATEvent-a8ab4aab28fd488ce605f17a2192b60d
SEQUENCE:0
LAST-MODIFIED:20100302T134503Z
SUMMARY:HEP-QFT
LOCATION:Lecture Room Euler
PRIORITY:3
TRANSP:0
END:VEVENT
END:VCALENDAR
