BEGIN:VCALENDAR
PRODID:-//AT Content Types//AT Event//EN
VERSION:1.0
BEGIN:VEVENT
DTSTART:20100415T070000Z
DTEND:20100415T083000Z
DCREATED:20100301T151705Z
UID:ATEvent-94f027976c09487701effd06adb7a72b
SEQUENCE:0
LAST-MODIFIED:20100302T135551Z
SUMMARY:HEP-QFT
LOCATION:Lecture Room Euler
PRIORITY:3
TRANSP:0
END:VEVENT
END:VCALENDAR
