BEGIN:VCALENDAR
PRODID:-//AT Content Types//AT Event//EN
VERSION:2.0
METHOD:PUBLISH
BEGIN:VEVENT
DTSTAMP:20260423T183647Z
CREATED:20100222T112958Z
UID:ATEvent-9e93764ae191ac15cdff809a291d1f9e
LAST-MODIFIED:20100222T113053Z
SUMMARY:HEP-QFT
DTSTART:20100401T090000Z
DTEND:20100401T103000Z
LOCATION:Lecture Room Euler
CONTACT:Marco Serone
URL:https://diploma-clear.ictp.it/courses/weekly-schedule/lecture-room-euler/hep-qft-48
CLASS:PUBLIC
END:VEVENT
END:VCALENDAR
