BEGIN:VCALENDAR
PRODID:-//AT Content Types//AT Event//EN
VERSION:1.0
BEGIN:VEVENT
DTSTART:20100330T090000Z
DTEND:20100330T103000Z
DCREATED:20100222T112357Z
UID:ATEvent-c6217fe7ce4b7c25ee6bae4a6699df84
SEQUENCE:0
LAST-MODIFIED:20100222T112424Z
SUMMARY:HEP-QFT
LOCATION:Lecture Room Euler
PRIORITY:3
TRANSP:0
END:VEVENT
END:VCALENDAR
