BEGIN:VCALENDAR
PRODID:-//AT Content Types//AT Event//EN
VERSION:2.0
METHOD:PUBLISH
BEGIN:VEVENT
DTSTAMP:20260422T161851Z
CREATED:20091221T150047Z
UID:ATEvent-b9298b5ee08a897da844a85ec0a53ccf
LAST-MODIFIED:20091221T150115Z
SUMMARY:HEP-QFT
DTSTART:20100316T100000Z
DTEND:20100316T113000Z
LOCATION:Lecture Room Euler
CONTACT:Marco Serone
URL:https://diploma-clear.ictp.it/courses/weekly-schedule/lecture-room-euler/hep-qft-43
CLASS:PUBLIC
END:VEVENT
END:VCALENDAR
