BEGIN:VCALENDAR
PRODID:-//AT Content Types//AT Event//EN
VERSION:2.0
METHOD:PUBLISH
BEGIN:VEVENT
DTSTAMP:20260422T081136Z
CREATED:20091221T144322Z
UID:ATEvent-91c55d638c07c48a391bb1365c8f37e7
LAST-MODIFIED:20091221T144337Z
SUMMARY:HEP-QFT
DTSTART:20100304T100000Z
DTEND:20100304T113000Z
LOCATION:Lecture Room Euler
CONTACT:K. S. Narain
URL:https://diploma-clear.ictp.it/courses/weekly-schedule/lecture-room-euler/hep-qft-40
CLASS:PUBLIC
END:VEVENT
END:VCALENDAR
