BEGIN:VCALENDAR
PRODID:-//AT Content Types//AT Event//EN
VERSION:1.0
BEGIN:VEVENT
DTSTART:20090203T100000Z
DTEND:20090203T113000Z
DCREATED:20090107T134623Z
UID:ATEvent-f251b12ca3b849c779684416e23960a2
SEQUENCE:0
LAST-MODIFIED:20090107T134730Z
SUMMARY:HEP-QFT
LOCATION:Lecture Room Euler
PRIORITY:3
TRANSP:0
END:VEVENT
END:VCALENDAR
