BEGIN:VCALENDAR
PRODID:-//AT Content Types//AT Event//EN
VERSION:2.0
METHOD:PUBLISH
BEGIN:VEVENT
DTSTAMP:20260422T081133Z
CREATED:20091221T142326Z
UID:ATEvent-53c7064a697679eb7b4e4fd2154f1d08
LAST-MODIFIED:20091221T142425Z
SUMMARY:HEP-QFT
DTSTART:20100209T100000Z
DTEND:20100209T113000Z
LOCATION:Lecture Room Euler
CONTACT:K. S. Narain
URL:https://diploma-clear.ictp.it/courses/weekly-schedule/lecture-room-euler/hep-qft-33
CLASS:PUBLIC
END:VEVENT
END:VCALENDAR
