BEGIN:VCALENDAR
PRODID:-//AT Content Types//AT Event//EN
VERSION:1.0
BEGIN:VEVENT
DTSTART:20090529T070000Z
DTEND:20090529T083000Z
DCREATED:20090514T133124Z
UID:ATEvent-f378d8552941bacbe9006d04938cfd57
SEQUENCE:0
LAST-MODIFIED:20090514T133209Z
SUMMARY:HEP - QFT
LOCATION:Lecture Room Euler
PRIORITY:3
TRANSP:0
END:VEVENT
END:VCALENDAR
