BEGIN:VCALENDAR
PRODID:-//AT Content Types//AT Event//EN
VERSION:2.0
METHOD:PUBLISH
BEGIN:VEVENT
DTSTAMP:20260422T191557Z
CREATED:20090107T143048Z
UID:ATEvent-e48bf2bf8f93ab02dbd7ede8eaa73f57
LAST-MODIFIED:20090107T143131Z
SUMMARY:HEP-QFT
DTSTART:20090409T090000Z
DTEND:20090409T103000Z
LOCATION:Lecture Room Euler
CONTACT:K. S. Narain
URL:https://diploma-clear.ictp.it/courses/weekly-schedule/lecture-room-euler/hep-qft-23
CLASS:PUBLIC
END:VEVENT
END:VCALENDAR
