BEGIN:VCALENDAR
PRODID:-//AT Content Types//AT Event//EN
VERSION:2.0
METHOD:PUBLISH
BEGIN:VEVENT
DTSTAMP:20260422T161655Z
CREATED:20090414T142050Z
UID:ATEvent-4c66bf1f584e1e430567f5437773bc2f
LAST-MODIFIED:20090414T142130Z
SUMMARY:HEP-QFT
DTSTART:20090428T090000Z
DTEND:20090428T103000Z
LOCATION:Lecture Room Euler
CONTACT:K. S. Narain
URL:https://diploma-clear.ictp.it/courses/weekly-schedule/lecture-room-euler/hep-qft-18
CLASS:PUBLIC
END:VEVENT
END:VCALENDAR
