BEGIN:VCALENDAR
PRODID:-//AT Content Types//AT Event//EN
VERSION:2.0
METHOD:PUBLISH
BEGIN:VEVENT
DTSTAMP:20260423T183715Z
CREATED:20090107T141022Z
UID:ATEvent-e0450bb54e84f302368a0e54d569ef7a
LAST-MODIFIED:20090107T141104Z
SUMMARY:HEP-QFT
DTSTART:20090317T100000Z
DTEND:20090317T113000Z
LOCATION:Lecture Room Euler
CONTACT:K. S. Narain
URL:https://diploma-clear.ictp.it/courses/weekly-schedule/lecture-room-euler/hep-qft-16
CLASS:PUBLIC
END:VEVENT
END:VCALENDAR
