BEGIN:VCALENDAR
PRODID:-//AT Content Types//AT Event//EN
VERSION:2.0
METHOD:PUBLISH
BEGIN:VEVENT
DTSTAMP:20260426T000620Z
CREATED:20090107T140749Z
UID:ATEvent-8cf3a2df69f8cdd2b93fad2b3b6b6d8d
LAST-MODIFIED:20090107T140847Z
SUMMARY:HEP-QFT
DTSTART:20090310T100000Z
DTEND:20090310T113000Z
LOCATION:Lecture Room Euler
CONTACT:K. S. Narain
URL:https://diploma-clear.ictp.it/courses/weekly-schedule/lecture-room-euler/hep-qft-14
CLASS:PUBLIC
END:VEVENT
END:VCALENDAR
