BEGIN:VCALENDAR
PRODID:-//AT Content Types//AT Event//EN
VERSION:1.0
BEGIN:VEVENT
DTSTART:20181206T150000Z
DTEND:20181206T163000Z
DCREATED:20181102T102754Z
UID:ATEvent-958e470497f24a29bb39d42c2626eba2
SEQUENCE:0
LAST-MODIFIED:20181102T102817Z
SUMMARY:HEP-QED tut. (5)
LOCATION:Lecture Room Euler
PRIORITY:3
TRANSP:0
END:VEVENT
END:VCALENDAR
