BEGIN:VCALENDAR
PRODID:-//AT Content Types//AT Event//EN
VERSION:1.0
BEGIN:VEVENT
DTSTART:20101105T150000Z
DTEND:20101105T163000Z
DCREATED:20100921T102121Z
UID:ATEvent-a029b22ac4c937c3eb41235c7a513152
SEQUENCE:0
LAST-MODIFIED:20100921T102202Z
SUMMARY:HEP-QED tut.
LOCATION:Lecture Room Euler
PRIORITY:3
TRANSP:0
END:VEVENT
END:VCALENDAR
