BEGIN:VCALENDAR
PRODID:-//AT Content Types//AT Event//EN
VERSION:1.0
BEGIN:VEVENT
DTSTART:20101029T140000Z
DTEND:20101029T153000Z
DCREATED:20100917T102551Z
UID:ATEvent-32f10035c38c94f80f68e7e13d43d065
SEQUENCE:0
LAST-MODIFIED:20100917T102617Z
SUMMARY:HEP-QED tut.
LOCATION:Lecture Room Euler
PRIORITY:3
TRANSP:0
END:VEVENT
END:VCALENDAR
