BEGIN:VCALENDAR
PRODID:-//AT Content Types//AT Event//EN
VERSION:1.0
BEGIN:VEVENT
DTSTART:20191119T130000Z
DTEND:20191119T143000Z
DCREATED:20191118T130322Z
UID:ATEvent-66871753bd204e338412c0a06f803910
SEQUENCE:0
LAST-MODIFIED:20191118T130347Z
SUMMARY:HEP-QED tut. (1)
LOCATION:Lecture Room Euler
PRIORITY:3
TRANSP:0
END:VEVENT
END:VCALENDAR
