BEGIN:VCALENDAR
PRODID:-//AT Content Types//AT Event//EN
VERSION:2.0
METHOD:PUBLISH
BEGIN:VEVENT
DTSTAMP:20260422T100306Z
CREATED:20100826T121840Z
UID:ATEvent-bc9351f012abb57d17a0e965283838c9
LAST-MODIFIED:20100826T121947Z
SUMMARY:HEP-QED
DTSTART:20100906T090000Z
DTEND:20100906T103000Z
LOCATION:Lecture Room Euler
URL:https://diploma-clear.ictp.it/courses/weekly-schedule/lecture-room-euler/hep-qed-53
CLASS:PUBLIC
END:VEVENT
END:VCALENDAR
