BEGIN:VCALENDAR
PRODID:-//AT Content Types//AT Event//EN
VERSION:2.0
METHOD:PUBLISH
BEGIN:VEVENT
DTSTAMP:20260425T011857Z
CREATED:20090908T092419Z
UID:ATEvent-ba6265a2782efbcf30ad252f137fcbfe
LAST-MODIFIED:20090908T092447Z
SUMMARY:HEP-QED
DTSTART:20090922T090000Z
DTEND:20090922T103000Z
LOCATION:Lecture Room Euler
CONTACT:Seifallah Randjbar-Daemi
URL:https://diploma-clear.ictp.it/courses/weekly-schedule/lecture-room-euler/hep-qed-32
CLASS:PUBLIC
END:VEVENT
END:VCALENDAR
