BEGIN:VCALENDAR
PRODID:-//AT Content Types//AT Event//EN
VERSION:1.0
BEGIN:VEVENT
DTSTART:20090915T090000Z
DTEND:20090915T103000Z
DCREATED:20090908T092300Z
UID:ATEvent-e2ff458a0bf12601288877a8eab1f1a3
SEQUENCE:0
LAST-MODIFIED:20090908T092324Z
SUMMARY:HEP-QED
LOCATION:Lecture Room Euler
PRIORITY:3
TRANSP:0
END:VEVENT
END:VCALENDAR
