BEGIN:VCALENDAR
PRODID:-//AT Content Types//AT Event//EN
VERSION:2.0
METHOD:PUBLISH
BEGIN:VEVENT
DTSTAMP:20260425T033936Z
CREATED:20090902T083149Z
UID:ATEvent-9293b43836df04037e721bd8e60fe43b
LAST-MODIFIED:20090908T071808Z
SUMMARY:HEP-QED
DTSTART:20090910T090000Z
DTEND:20090910T103000Z
LOCATION:Lecture Room Euler
CONTACT:Seifallah Randjbar-Daemi
URL:https://diploma-clear.ictp.it/courses/weekly-schedule/lecture-room-euler/hep-qed-27
CLASS:PUBLIC
END:VEVENT
END:VCALENDAR
