BEGIN:VCALENDAR
PRODID:-//AT Content Types//AT Event//EN
VERSION:2.0
METHOD:PUBLISH
BEGIN:VEVENT
DTSTAMP:20260422T222600Z
CREATED:20081113T143951Z
UID:ATEvent-732d5d0faceac7fc1e4359454314aa84
LAST-MODIFIED:20081113T144104Z
SUMMARY:HEP-QED
DTSTART:20081117T150000Z
DTEND:20081117T163000Z
LOCATION:Lecture Room Euler
CONTACT:Mahdi Torabian
URL:https://diploma-clear.ictp.it/courses/weekly-schedule/lecture-room-euler/hep-qed-19
CLASS:PUBLIC
END:VEVENT
END:VCALENDAR
