BEGIN:VCALENDAR
PRODID:-//AT Content Types//AT Event//EN
VERSION:1.0
BEGIN:VEVENT
DTSTART:20081027T100000Z
DTEND:20081027T113000Z
DCREATED:20081001T135239Z
UID:ATEvent-35a9d87429825adf5e5591b40cac965e
SEQUENCE:0
LAST-MODIFIED:20081014T102613Z
SUMMARY:HEP-QED
LOCATION:Lecture Room Euler
PRIORITY:3
TRANSP:0
END:VEVENT
END:VCALENDAR
