BEGIN:VCALENDAR
PRODID:-//AT Content Types//AT Event//EN
VERSION:2.0
METHOD:PUBLISH
BEGIN:VEVENT
DTSTAMP:20260422T022905Z
CREATED:20081001T135237Z
UID:ATEvent-e3206de646326569ef7b6c38d4ff50a6
LAST-MODIFIED:20081014T100156Z
SUMMARY:HEP-QED
DTSTART:20081007T090000Z
DTEND:20081007T103000Z
LOCATION:Lecture Room Euler
CONTACT:Seif Randjbar-Daemi
URL:https://diploma-clear.ictp.it/courses/weekly-schedule/lecture-room-euler/hep-qed-11
CLASS:PUBLIC
END:VEVENT
END:VCALENDAR
