BEGIN:VCALENDAR
PRODID:-//AT Content Types//AT Event//EN
VERSION:1.0
BEGIN:VEVENT
DTSTART:20081121T080000Z
DTEND:20081121T093000Z
DCREATED:20081103T151645Z
UID:ATEvent-1b8cb676588a907e79d21ad10dfb32b1
SEQUENCE:0
LAST-MODIFIED:20081113T125540Z
SUMMARY:HEP-PP tut.
LOCATION:Lecture Room Euler
PRIORITY:3
TRANSP:0
END:VEVENT
END:VCALENDAR
