BEGIN:VCALENDAR
PRODID:-//AT Content Types//AT Event//EN
VERSION:2.0
METHOD:PUBLISH
BEGIN:VEVENT
DTSTAMP:20260421T010743Z
CREATED:20171114T102357Z
UID:ATEvent-71e47699e2f845488bda9b1fcea4fa7a
LAST-MODIFIED:20171114T102447Z
SUMMARY:HEP-PP tut.
DTSTART:20171129T100000Z
DTEND:20171129T113000Z
LOCATION:Lecture Room Euler
CONTACT:D. Ghosh
URL:https://diploma-clear.ictp.it/courses/weekly-schedule/lecture-room-euler/hep-pp-tut-39
CLASS:PUBLIC
END:VEVENT
END:VCALENDAR
