BEGIN:VCALENDAR
PRODID:-//AT Content Types//AT Event//EN
VERSION:2.0
METHOD:PUBLISH
BEGIN:VEVENT
DTSTAMP:20260423T122255Z
CREATED:20151113T135901Z
UID:ATEvent-8a229bd046ab4885b0030931b1fda6cf
LAST-MODIFIED:20151113T140008Z
SUMMARY:HEP-PP tut.
DTSTART:20151117T100000Z
DTEND:20151117T113000Z
LOCATION:Lecture Room Euler
CONTACT:X. Chu
URL:https://diploma-clear.ictp.it/courses/weekly-schedule/lecture-room-euler/hep-pp-tut-32
CLASS:PUBLIC
END:VEVENT
END:VCALENDAR
