BEGIN:VCALENDAR
PRODID:-//AT Content Types//AT Event//EN
VERSION:2.0
METHOD:PUBLISH
BEGIN:VEVENT
DTSTAMP:20260421T102417Z
CREATED:20130730T123644Z
UID:ATEvent-6de323dcb82e4de28f85b9ce3e875279
LAST-MODIFIED:20130730T123709Z
SUMMARY:HEP-PP EXAM
DTSTART:20131220T080000Z
DTEND:20131220T113000Z
LOCATION:Lecture Room Euler
CONTACT:A. Smirnov
URL:https://diploma-clear.ictp.it/courses/weekly-schedule/lecture-room-euler/hep-pp-exam
CLASS:PUBLIC
END:VEVENT
END:VCALENDAR
