BEGIN:VCALENDAR
PRODID:-//AT Content Types//AT Event//EN
VERSION:1.0
BEGIN:VEVENT
DTSTART:20111031T130000Z
DTEND:20111031T143000Z
DCREATED:20110905T102147Z
UID:ATEvent-dd857e41eade9e09842786010d2ac8d4
SEQUENCE:0
LAST-MODIFIED:20110905T102248Z
SUMMARY:HEP-PP
LOCATION:Lecture Room Euler
PRIORITY:3
TRANSP:0
END:VEVENT
END:VCALENDAR
