BEGIN:VCALENDAR
PRODID:-//AT Content Types//AT Event//EN
VERSION:1.0
BEGIN:VEVENT
DTSTART:20081211T130000Z
DTEND:20081211T143000Z
DCREATED:20081118T100350Z
UID:ATEvent-b76c494c3152a6f5468bbe02de047fc3
SEQUENCE:0
LAST-MODIFIED:20081118T100448Z
SUMMARY:HEP-PP
LOCATION:Lecture Room Euler
PRIORITY:3
TRANSP:0
END:VEVENT
END:VCALENDAR
