BEGIN:VCALENDAR
PRODID:-//AT Content Types//AT Event//EN
VERSION:2.0
METHOD:PUBLISH
BEGIN:VEVENT
DTSTAMP:20260423T232902Z
CREATED:20100923T085739Z
UID:ATEvent-58f662bafe50fc710c064100b4297d04
LAST-MODIFIED:20100923T085802Z
SUMMARY:HEP-PP
DTSTART:20101202T130000Z
DTEND:20101202T143000Z
LOCATION:Lecture Room Euler
CONTACT:A. Smirnov
URL:https://diploma-clear.ictp.it/courses/weekly-schedule/lecture-room-euler/hep-pp-54
CLASS:PUBLIC
END:VEVENT
END:VCALENDAR
