BEGIN:VCALENDAR
PRODID:-//AT Content Types//AT Event//EN
VERSION:1.0
BEGIN:VEVENT
DTSTART:20101129T130000Z
DTEND:20101129T143000Z
DCREATED:20100923T085637Z
UID:ATEvent-f04ee13fa34fa81064ad86c23b51107f
SEQUENCE:0
LAST-MODIFIED:20100923T085658Z
SUMMARY:HEP-PP
LOCATION:Lecture Room Euler
PRIORITY:3
TRANSP:0
END:VEVENT
END:VCALENDAR
