BEGIN:VCALENDAR
PRODID:-//AT Content Types//AT Event//EN
VERSION:1.0
BEGIN:VEVENT
DTSTART:20101117T130000Z
DTEND:20101117T143000Z
DCREATED:20100921T143711Z
UID:ATEvent-102316c623dab4d9a3c01d6380a47ba9
SEQUENCE:0
LAST-MODIFIED:20101012T144957Z
SUMMARY:HEP-PP
LOCATION:Lecture Room Euler
PRIORITY:3
TRANSP:0
END:VEVENT
END:VCALENDAR
