BEGIN:VCALENDAR
PRODID:-//AT Content Types//AT Event//EN
VERSION:1.0
BEGIN:VEVENT
DTSTART:20101111T130000Z
DTEND:20101111T143000Z
DCREATED:20100921T133353Z
UID:ATEvent-3ec22a4f7a2740603c7d7da231119143
SEQUENCE:0
LAST-MODIFIED:20100921T133415Z
SUMMARY:HEP-PP
LOCATION:Lecture Room Euler
PRIORITY:3
TRANSP:0
END:VEVENT
END:VCALENDAR
