BEGIN:VCALENDAR
PRODID:-//AT Content Types//AT Event//EN
VERSION:1.0
BEGIN:VEVENT
DTSTART:20101109T150000Z
DTEND:20101109T163000Z
DCREATED:20100921T133248Z
UID:ATEvent-691c381fa0af3d5c0f97eff37cbde11c
SEQUENCE:0
LAST-MODIFIED:20101105T134640Z
SUMMARY:HEP-PP
LOCATION:Lecture Room Euler
PRIORITY:3
TRANSP:0
END:VEVENT
END:VCALENDAR
