BEGIN:VCALENDAR
PRODID:-//AT Content Types//AT Event//EN
VERSION:1.0
BEGIN:VEVENT
DTSTART:20101104T130000Z
DTEND:20101104T143000Z
DCREATED:20100921T101544Z
UID:ATEvent-61cb246424d64979e93e18fa944dee20
SEQUENCE:0
LAST-MODIFIED:20100921T101609Z
SUMMARY:HEP-PP
LOCATION:Lecture Room Euler
PRIORITY:3
TRANSP:0
END:VEVENT
END:VCALENDAR
