BEGIN:VCALENDAR
PRODID:-//AT Content Types//AT Event//EN
VERSION:1.0
BEGIN:VEVENT
DTSTART:20101101T130000Z
DTEND:20101101T143000Z
DCREATED:20100921T100803Z
UID:ATEvent-673e32640bc763c3ac392dd7edf59846
SEQUENCE:0
LAST-MODIFIED:20100921T100830Z
SUMMARY:HEP-PP
LOCATION:Lecture Room Euler
PRIORITY:3
TRANSP:0
END:VEVENT
END:VCALENDAR
