BEGIN:VCALENDAR
PRODID:-//AT Content Types//AT Event//EN
VERSION:2.0
METHOD:PUBLISH
BEGIN:VEVENT
DTSTAMP:20260423T215207Z
CREATED:20081118T100013Z
UID:ATEvent-b4186c4cdacd03db2d470cebf219f8b3
LAST-MODIFIED:20081118T100126Z
SUMMARY:HEP-PP
DTSTART:20081208T130000Z
DTEND:20081208T143000Z
LOCATION:Lecture Room Euler
CONTACT:Alexei Smirnov
URL:https://diploma-clear.ictp.it/courses/weekly-schedule/lecture-room-euler/hep-pp-4
CLASS:PUBLIC
END:VEVENT
END:VCALENDAR
