BEGIN:VCALENDAR
PRODID:-//AT Content Types//AT Event//EN
VERSION:2.0
METHOD:PUBLISH
BEGIN:VEVENT
DTSTAMP:20260425T115457Z
CREATED:20100917T102427Z
UID:ATEvent-17824c1f7af465438492b7bd005cd600
LAST-MODIFIED:20100917T102456Z
SUMMARY:HEP-PP
DTSTART:20101028T120000Z
DTEND:20101028T133000Z
LOCATION:Lecture Room Euler
CONTACT:A. Smirnov
URL:https://diploma-clear.ictp.it/courses/weekly-schedule/lecture-room-euler/hep-pp-39
CLASS:PUBLIC
END:VEVENT
END:VCALENDAR
