BEGIN:VCALENDAR
PRODID:-//AT Content Types//AT Event//EN
VERSION:2.0
METHOD:PUBLISH
BEGIN:VEVENT
DTSTAMP:20260422T191521Z
CREATED:20100917T101609Z
UID:ATEvent-4ca3e5404286c6fa83c3dfb7e595ca4c
LAST-MODIFIED:20100917T101635Z
SUMMARY:HEP-PP
DTSTART:20101025T120000Z
DTEND:20101025T133000Z
LOCATION:Lecture Room Euler
CONTACT:A. Smirnov
URL:https://diploma-clear.ictp.it/courses/weekly-schedule/lecture-room-euler/hep-pp-37
CLASS:PUBLIC
END:VEVENT
END:VCALENDAR
