BEGIN:VCALENDAR
PRODID:-//AT Content Types//AT Event//EN
VERSION:1.0
BEGIN:VEVENT
DTSTART:20101012T120000Z
DTEND:20101012T133000Z
DCREATED:20100916T121621Z
UID:ATEvent-9b40600fd57ebc79c1497093ce2ca87e
SEQUENCE:0
LAST-MODIFIED:20100916T121651Z
SUMMARY:HEP-PP
LOCATION:Lecture Room Euler
PRIORITY:3
TRANSP:0
END:VEVENT
END:VCALENDAR
