BEGIN:VCALENDAR
PRODID:-//AT Content Types//AT Event//EN
VERSION:2.0
METHOD:PUBLISH
BEGIN:VEVENT
DTSTAMP:20260420T215155Z
CREATED:20220824T091414Z
UID:ATEvent-61338d51e56f42f9bbd7e66fe3a7d981
LAST-MODIFIED:20220824T091434Z
SUMMARY:HEP meeting
DTSTART:20220905T120000Z
DTEND:20220905T133000Z
LOCATION:Lecture Room Euler
CONTACT:G. Villadoro
URL:https://diploma-clear.ictp.it/courses/weekly-schedule/lecture-room-euler/hep-meeting-5
CLASS:PUBLIC
END:VEVENT
END:VCALENDAR
