BEGIN:VCALENDAR
PRODID:-//AT Content Types//AT Event//EN
VERSION:2.0
METHOD:PUBLISH
BEGIN:VEVENT
DTSTAMP:20260421T233521Z
CREATED:20130730T124844Z
UID:ATEvent-efaca7adeacc466488e3191ed1c1dc97
LAST-MODIFIED:20130730T130125Z
SUMMARY:HEP meeting
DTSTART:20130905T140000Z
DTEND:20130905T153000Z
LOCATION:Lecture Room Euler
CONTACT:K.S. Narain
URL:https://diploma-clear.ictp.it/courses/weekly-schedule/lecture-room-euler/hep-meeting-4
CLASS:PUBLIC
END:VEVENT
END:VCALENDAR
