BEGIN:VCALENDAR
PRODID:-//AT Content Types//AT Event//EN
VERSION:1.0
BEGIN:VEVENT
DTSTART:20081113T150000Z
DTEND:20081113T163000Z
DCREATED:20081008T105706Z
UID:ATEvent-46cbff31519d7d64d7e3daf5cf286f36
SEQUENCE:0
LAST-MODIFIED:20081014T124309Z
SUMMARY:HEP-LL tut.
LOCATION:Lecture Room Euler
PRIORITY:3
TRANSP:0
END:VEVENT
END:VCALENDAR
