BEGIN:VCALENDAR
PRODID:-//AT Content Types//AT Event//EN
VERSION:1.0
BEGIN:VEVENT
DTSTART:20140924T140000Z
DTEND:20140924T153000Z
DCREATED:20140826T092828Z
UID:ATEvent-7bbdfe1ec4994cdca220e9fc10642441
SEQUENCE:0
LAST-MODIFIED:20140829T094415Z
SUMMARY:HEP-LL tut.
LOCATION:Lecture Room Euler
PRIORITY:3
TRANSP:0
END:VEVENT
END:VCALENDAR
