BEGIN:VCALENDAR
PRODID:-//AT Content Types//AT Event//EN
VERSION:2.0
METHOD:PUBLISH
BEGIN:VEVENT
DTSTAMP:20260422T223138Z
CREATED:20130912T124236Z
UID:ATEvent-e1d8b52404c94ff9b7a1305b077c16b9
LAST-MODIFIED:20130912T124259Z
SUMMARY:HEP-LL tut.
DTSTART:20130918T140000Z
DTEND:20130918T153000Z
LOCATION:Lecture Room Euler
CONTACT:L. Aparicio de Santiago
URL:https://diploma-clear.ictp.it/courses/weekly-schedule/lecture-room-euler/hep-ll-tut-23
CLASS:PUBLIC
END:VEVENT
END:VCALENDAR
