BEGIN:VCALENDAR
PRODID:-//AT Content Types//AT Event//EN
VERSION:1.0
BEGIN:VEVENT
DTSTART:20130913T140000Z
DTEND:20130913T153000Z
DCREATED:20130912T124141Z
UID:ATEvent-ec905dd5fc8442eaa1b45d0b1f4d4fe9
SEQUENCE:0
LAST-MODIFIED:20130912T124212Z
SUMMARY:HEP-LL tut.
LOCATION:Lecture Room Euler
PRIORITY:3
TRANSP:0
END:VEVENT
END:VCALENDAR
