BEGIN:VCALENDAR
PRODID:-//AT Content Types//AT Event//EN
VERSION:1.0
BEGIN:VEVENT
DTSTART:20081211T150000Z
DTEND:20081211T163000Z
DCREATED:20081203T155128Z
UID:ATEvent-4a19d3547c8ffe93799d8bad515581d6
SEQUENCE:0
LAST-MODIFIED:20081203T155212Z
SUMMARY:HEP-LL tut.
LOCATION:Lecture Room Euler
PRIORITY:3
TRANSP:0
END:VEVENT
END:VCALENDAR
